BEGIN:VCALENDAR
VERSION:2.0
PRODID:IMJ-PRG
X-WR-TIMEZONE:Europe/Paris

BEGIN:VEVENT
UID:10857@imj-prg.fr

DTSTAMP:20260409T103000
DTSTART:20260409T103000
DTEND:20260409T120000
SUMMARY:Stabilité quantitative optimale pour l’inégalité de Brascamp–Lieb:  João Miguel Machado Centre de Recherche Lagrange,
LOCATION: salle 13 - couloir 15-16 - 4ème étage
DESCRIPTION:Séminaire d&#039;Analyse Fonctionnelle\n
  Campus Pierre et Marie Curie 
URL: https://www.imj-prg.fr/gestion/evenement/affSeance/10857
END:VEVENT
END:VCALENDAR
