BEGIN:VCALENDAR
VERSION:2.0
PRODID:IMJ-PRG
X-WR-TIMEZONE:Europe/Paris

BEGIN:VEVENT
UID:10858@imj-prg.fr

DTSTAMP:20260416T103000
DTSTART:20260416T103000
DTEND:20260416T120000
SUMMARY:Estimates of ground state of random polynomials:  Alexander Volberg Michigan State Univ.,
LOCATION: salle 13 - couloir 15-16 - 4ème étage
DESCRIPTION:Séminaire d&#039;Analyse Fonctionnelle\n
  Campus Pierre et Marie Curie 
URL: https://www.imj-prg.fr/gestion/evenement/affSeance/10858
END:VEVENT
END:VCALENDAR
