BEGIN:VCALENDAR
VERSION:2.0
PRODID:IMJ-PRG
X-WR-TIMEZONE:Europe/Paris

BEGIN:VEVENT
UID:10863@imj-prg.fr

DTSTAMP:20260612T103000
DTSTART:20260612T103000
DTEND:20260612T123000
SUMMARY:TBA:  Sachin GAUTAM Columbia, New York,
LOCATION: 1016
DESCRIPTION:Séminaire Groupes, Représentations et Géométrie\n
  Sophie Germain 
URL: https://www.imj-prg.fr/gestion/evenement/affSeance/10863
END:VEVENT
END:VCALENDAR
