BEGIN:VCALENDAR
VERSION:2.0
PRODID:IMJ-PRG
X-WR-TIMEZONE:Europe/Paris

BEGIN:VEVENT
UID:10869@imj-prg.fr

DTSTAMP:20260427T140000
DTSTART:20260427T140000
DTEND:20260427T150000
SUMMARY:Isosingularité dans les variétés algébriques et les espaces d&#039;arcs:  David Bourqui ,
LOCATION: salle 1013
DESCRIPTION:Séminaire sur les Singularités\n
  Sophie Germain 
URL: https://www.imj-prg.fr/gestion/evenement/affSeance/10869
END:VEVENT
END:VCALENDAR
