BEGIN:VCALENDAR
VERSION:2.0
PRODID:IMJ-PRG
X-WR-TIMEZONE:Europe/Paris

BEGIN:VEVENT
UID:10870@imj-prg.fr

DTSTAMP:20260511T110000
DTSTART:20260511T110000
DTEND:20260511T123000
SUMMARY:TBA:  Enric FLORIT-SIMON ETH Zurich,
LOCATION: 1013
DESCRIPTION:Séminaire de Géométrie\n
  Sophie Germain 
URL: https://www.imj-prg.fr/gestion/evenement/affSeance/10870
END:VEVENT
END:VCALENDAR
