BEGIN:VCALENDAR
VERSION:2.0
PRODID:IMJ-PRG
X-WR-TIMEZONE:Europe/Paris

BEGIN:VEVENT
UID:10871@imj-prg.fr

DTSTAMP:20260518T110000
DTSTART:20260518T110000
DTEND:20260518T123000
SUMMARY:TBA:  Niels MARTIN MØLLER University of Copenhagen,
LOCATION: 1013
DESCRIPTION:Séminaire de Géométrie\n
  Sophie Germain 
URL: https://www.imj-prg.fr/gestion/evenement/affSeance/10871
END:VEVENT
END:VCALENDAR
