BEGIN:VCALENDAR
VERSION:2.0
PRODID:IMJ-PRG
X-WR-TIMEZONE:Europe/Paris

BEGIN:VEVENT
UID:10872@imj-prg.fr

DTSTAMP:20260601T110000
DTSTART:20260601T110000
DTEND:20260601T123000
SUMMARY:TBA:  Eric LOUBEAU Université de Bretagne occidentale,
LOCATION: 1013
DESCRIPTION:Séminaire de Géométrie\n
  Sophie Germain 
URL: https://www.imj-prg.fr/gestion/evenement/affSeance/10872
END:VEVENT
END:VCALENDAR
