BEGIN:VCALENDAR
VERSION:2.0
PRODID:IMJ-PRG
X-WR-TIMEZONE:Europe/Paris

BEGIN:VEVENT
UID:10878@imj-prg.fr

DTSTAMP:20260615T103000
DTSTART:20260615T103000
DTEND:20260615T120000
SUMMARY:TBA: 
LOCATION: 
DESCRIPTION:Séminaire Groupes Réductifs et Formes Automorphes\n
   
URL: https://www.imj-prg.fr/gestion/evenement/affSeance/10878
END:VEVENT
END:VCALENDAR
